BEGIN:VCALENDAR
VERSION:2.0
PRODID:-//Colorado Timber Ridge - ECPv6.15.20//NONSGML v1.0//EN
CALSCALE:GREGORIAN
METHOD:PUBLISH
X-ORIGINAL-URL:https://ctrmd.org
X-WR-CALDESC:Events for Colorado Timber Ridge
REFRESH-INTERVAL;VALUE=DURATION:PT1H
X-Robots-Tag:noindex
X-PUBLISHED-TTL:PT1H
BEGIN:VTIMEZONE
TZID:America/Denver
BEGIN:DAYLIGHT
TZOFFSETFROM:-0700
TZOFFSETTO:-0600
TZNAME:MDT
DTSTART:20210314T090000
END:DAYLIGHT
BEGIN:STANDARD
TZOFFSETFROM:-0600
TZOFFSETTO:-0700
TZNAME:MST
DTSTART:20211107T080000
END:STANDARD
BEGIN:DAYLIGHT
TZOFFSETFROM:-0700
TZOFFSETTO:-0600
TZNAME:MDT
DTSTART:20220313T090000
END:DAYLIGHT
BEGIN:STANDARD
TZOFFSETFROM:-0600
TZOFFSETTO:-0700
TZNAME:MST
DTSTART:20221106T080000
END:STANDARD
BEGIN:DAYLIGHT
TZOFFSETFROM:-0700
TZOFFSETTO:-0600
TZNAME:MDT
DTSTART:20230312T090000
END:DAYLIGHT
BEGIN:STANDARD
TZOFFSETFROM:-0600
TZOFFSETTO:-0700
TZNAME:MST
DTSTART:20231105T080000
END:STANDARD
END:VTIMEZONE
BEGIN:VEVENT
DTSTART;TZID=America/Denver:20220116T170000
DTEND;TZID=America/Denver:20220116T200000
DTSTAMP:20260419T160849
CREATED:20220105T010043Z
LAST-MODIFIED:20220112T204548Z
UID:10000329-1642352400-1642363200@ctrmd.org
SUMMARY:Full  Moon Snow Shoe -Timber Ridge
DESCRIPTION:Full Moon Snow Shoe and Social\nWolf Moon- 1st Full Moon of 2022.  \nWhen: Sunday\,  January 16\, 2022 \nTime:  5:00pm \nWhere: Meet next to Timber Ridge  Clubhouse. 31 Shooting Star  We will have a fire in the fire ring. \nPlan: Have a social time while we watch sunset and moonrise\, then an easy moonlight snow shoe on the trail. \nWe snowshoe around 6:15pm when moon os over the mountains. \n  \nWhat to Bring: Any snacks\, desserts  or appetizer you would like to bring(but not necessary) what you would like to drink. \nWarm Clothes\, Chair &  Snowshoes and Poles if you want to do the snowshoe. \nBring some firewood if you have extra. The drier the better. \nWeather: Hopefully Nice and Clear \nMoon Rises at : 4:16pm. \nSunset at: 5:15pm \nNo RSVP Needed Just show up. \nContact Bob Milford with any questions bm********@***il.com or 281-467-2379
URL:https://ctrmd.org/ctrhoaevent/full-moon-snow-shoe-timber-ridge/
LOCATION:Timber Ridge Clubhouse\, 31 Shooting Star Drive\, Pagosa Springs\, Colorado\, 81147
END:VEVENT
END:VCALENDAR