BEGIN:VCALENDAR
VERSION:2.0
PRODID:-//Colorado Timber Ridge - ECPv6.15.20//NONSGML v1.0//EN
CALSCALE:GREGORIAN
METHOD:PUBLISH
X-WR-CALNAME:Colorado Timber Ridge
X-ORIGINAL-URL:https://ctrmd.org
X-WR-CALDESC:Events for Colorado Timber Ridge
REFRESH-INTERVAL;VALUE=DURATION:PT1H
X-Robots-Tag:noindex
X-PUBLISHED-TTL:PT1H
BEGIN:VTIMEZONE
TZID:America/Denver
BEGIN:DAYLIGHT
TZOFFSETFROM:-0700
TZOFFSETTO:-0600
TZNAME:MDT
DTSTART:20200308T090000
END:DAYLIGHT
BEGIN:STANDARD
TZOFFSETFROM:-0600
TZOFFSETTO:-0700
TZNAME:MST
DTSTART:20201101T080000
END:STANDARD
BEGIN:DAYLIGHT
TZOFFSETFROM:-0700
TZOFFSETTO:-0600
TZNAME:MDT
DTSTART:20210314T090000
END:DAYLIGHT
BEGIN:STANDARD
TZOFFSETFROM:-0600
TZOFFSETTO:-0700
TZNAME:MST
DTSTART:20211107T080000
END:STANDARD
BEGIN:DAYLIGHT
TZOFFSETFROM:-0700
TZOFFSETTO:-0600
TZNAME:MDT
DTSTART:20220313T090000
END:DAYLIGHT
BEGIN:STANDARD
TZOFFSETFROM:-0600
TZOFFSETTO:-0700
TZNAME:MST
DTSTART:20221106T080000
END:STANDARD
END:VTIMEZONE
BEGIN:VEVENT
DTSTART;TZID=America/Denver:20210902T150000
DTEND;TZID=America/Denver:20210902T154500
DTSTAMP:20260420T010431
CREATED:20210901T181303Z
LAST-MODIFIED:20210901T181859Z
UID:10000314-1630594800-1630597500@ctrmd.org
SUMMARY:CTRMD Special Board Meeting 9/2/21 3:00pm
DESCRIPTION:The CTRMD Board will meet Thursday\, September  2\, 2021 at 3:00pm  Mountain Time at Clubhouse or via Zoom  to Vote on the Official Ballot prepared by our Attorney for the November 2\, 2021 Coordinated Election.  \n\n\n\n Join Zoom Meeting: \n\n\n\nhttps://us02web.zoom.us/j/86147596361?pwd=VWJIYTZvOXRPeS9COGhmYlBvQkdiUT09 \n\n\n\n\n\n\n\nMeeting ID:861 4759 6361 \n\n\n\n Passcode: 619741  \n\n\n\n\n\nDial by your location +1 346 248 7799 \n\n\n\n\n\nDownload Agenda
URL:https://ctrmd.org/ctrhoaevent/ctrmd-special-board-meeting-9-2-21-300pm/
LOCATION:Timber Ridge Clubhouse\, 31 Shooting Star Drive\, Pagosa Springs\, Colorado\, 81147
END:VEVENT
END:VCALENDAR