BEGIN:VCALENDAR
VERSION:2.0
PRODID:-//Colorado Timber Ridge - ECPv6.15.20//NONSGML v1.0//EN
CALSCALE:GREGORIAN
METHOD:PUBLISH
X-ORIGINAL-URL:https://ctrmd.org
X-WR-CALDESC:Events for Colorado Timber Ridge
REFRESH-INTERVAL;VALUE=DURATION:PT1H
X-Robots-Tag:noindex
X-PUBLISHED-TTL:PT1H
BEGIN:VTIMEZONE
TZID:America/Denver
BEGIN:DAYLIGHT
TZOFFSETFROM:-0700
TZOFFSETTO:-0600
TZNAME:MDT
DTSTART:20200308T090000
END:DAYLIGHT
BEGIN:STANDARD
TZOFFSETFROM:-0600
TZOFFSETTO:-0700
TZNAME:MST
DTSTART:20201101T080000
END:STANDARD
BEGIN:DAYLIGHT
TZOFFSETFROM:-0700
TZOFFSETTO:-0600
TZNAME:MDT
DTSTART:20210314T090000
END:DAYLIGHT
BEGIN:STANDARD
TZOFFSETFROM:-0600
TZOFFSETTO:-0700
TZNAME:MST
DTSTART:20211107T080000
END:STANDARD
BEGIN:DAYLIGHT
TZOFFSETFROM:-0700
TZOFFSETTO:-0600
TZNAME:MDT
DTSTART:20220313T090000
END:DAYLIGHT
BEGIN:STANDARD
TZOFFSETFROM:-0600
TZOFFSETTO:-0700
TZNAME:MST
DTSTART:20221106T080000
END:STANDARD
END:VTIMEZONE
BEGIN:VEVENT
DTSTART;TZID=America/Denver:20210604T180000
DTEND;TZID=America/Denver:20210604T210000
DTSTAMP:20260420T171051
CREATED:20210331T005035Z
LAST-MODIFIED:20210331T005035Z
UID:10000276-1622829600-1622840400@ctrmd.org
SUMMARY:Simply Social - Retro Cats Concert
DESCRIPTION:Social 6-7PM – Clubhouse\nRetro Cats concert 7-9PM – Clubhouse
URL:https://ctrmd.org/ctrhoaevent/simply-social-retro-cats-concert/
LOCATION:Timber Ridge Clubhouse\, 31 Shooting Star Drive\, Pagosa Springs\, Colorado\, 81147
END:VEVENT
BEGIN:VEVENT
DTSTART;TZID=America/Denver:20210612T100000
DTEND;TZID=America/Denver:20210612T110000
DTSTAMP:20260420T171051
CREATED:20210413T134004Z
LAST-MODIFIED:20210413T134004Z
UID:10000287-1623492000-1623495600@ctrmd.org
SUMMARY:Community Coffee (various driveways)
DESCRIPTION:We’ll be inviting you to bring your folding chair and your coffee to a neighbor’s driveway for an hour of fellowship. Our groups are: \nHeath / Yarrow / Mariposa ________\n\nSage / Cool Pine ______\n\nBristlecone / Kelseya ______\n\nCrown Court / Engleman / Shooting Star @ 25 Crown Ct
URL:https://ctrmd.org/ctrhoaevent/community-coffee-various-driveways/
END:VEVENT
BEGIN:VEVENT
DTSTART;TZID=America/Denver:20210619T093000
DTEND;TZID=America/Denver:20210619T120000
DTSTAMP:20260420T171051
CREATED:20210412T134637Z
LAST-MODIFIED:20210413T132739Z
UID:10000286-1624095000-1624104000@ctrmd.org
SUMMARY:Arborglyph Presentation and Hike
DESCRIPTION:9:30 Coffee \n10:00 Presentation \nDepart for hike to see the art following the presentation.
URL:https://ctrmd.org/ctrhoaevent/arborglyph-presentation-and-hike/
END:VEVENT
BEGIN:VEVENT
DTSTART;TZID=America/Denver:20210621T170000
DTEND;TZID=America/Denver:20210621T190000
DTSTAMP:20260420T171051
CREATED:20210325T134951Z
LAST-MODIFIED:20210611T192444Z
UID:10000272-1624294800-1624302000@ctrmd.org
SUMMARY:Monthly Board Meetings
DESCRIPTION:Board meetings are held the third Monday of each month. Metro District Board meeting starts at 5:00pm MST at the Timber Ridge Clubhouse. HOA Board meeting starts at 6:00pm.  Or you can Zoom in. \nJoin Zoom Meeting: \nhttps://us02web.zoom.us/j/86147596361?pwd=VWJIYTZvOXRPeS9COGhmYlBvQkdiUT09 \nMeeting ID:861 4759 6361 \nPasscode: 619741 \n  \nDial by your location +1 346 248 7799
URL:https://ctrmd.org/ctrhoaevent/hoa-monthly-board-meeting/
LOCATION:Timber Ridge Clubhouse\, 31 Shooting Star Drive\, Pagosa Springs\, Colorado\, 81147
END:VEVENT
BEGIN:VEVENT
DTSTART;TZID=America/Denver:20210624T180000
DTEND;TZID=America/Denver:20210624T200000
DTSTAMP:20260420T171051
CREATED:20210623T021930Z
LAST-MODIFIED:20210623T021930Z
UID:10000300-1624557600-1624564800@ctrmd.org
SUMMARY:Private Party
DESCRIPTION:
URL:https://ctrmd.org/ctrhoaevent/private-party-6/
LOCATION:Timber Ridge Clubhouse\, 31 Shooting Star Drive\, Pagosa Springs\, Colorado\, 81147
END:VEVENT
BEGIN:VEVENT
DTSTART;TZID=America/Denver:20210625T120000
DTEND;TZID=America/Denver:20210625T130000
DTSTAMP:20260420T171051
CREATED:20210331T005254Z
LAST-MODIFIED:20210331T005254Z
UID:10000278-1624622400-1624626000@ctrmd.org
SUMMARY:Ladies Lunch at Mee's
DESCRIPTION:Ladies of Timber Ridge\, head down to Mee’s and we’ll see you there. Just show up!
URL:https://ctrmd.org/ctrhoaevent/ladies-lunch-at-mees/
LOCATION:Mee’s Hmong Cuisine\, 920 San Juan Street\, Pagosa Springs\, CO\, 81147\, United States
END:VEVENT
BEGIN:VEVENT
DTSTART;TZID=America/Denver:20210625T180000
DTEND;TZID=America/Denver:20210625T230000
DTSTAMP:20260420T171051
CREATED:20210521T182301Z
LAST-MODIFIED:20210521T182301Z
UID:10000296-1624644000-1624662000@ctrmd.org
SUMMARY:Private Party
DESCRIPTION:
URL:https://ctrmd.org/ctrhoaevent/private-party-5/
LOCATION:Timber Ridge Clubhouse\, 31 Shooting Star Drive\, Pagosa Springs\, Colorado\, 81147
END:VEVENT
BEGIN:VEVENT
DTSTART;TZID=America/Denver:20210627T160000
DTEND;TZID=America/Denver:20210627T173000
DTSTAMP:20260420T171051
CREATED:20210412T134204Z
LAST-MODIFIED:20210412T134204Z
UID:10000283-1624809600-1624815000@ctrmd.org
SUMMARY:Line Dancing Lessons
DESCRIPTION:Join us for line dancing lessons at the Clubhouse!
URL:https://ctrmd.org/ctrhoaevent/line-dancing-lessons-2/
LOCATION:Timber Ridge Clubhouse\, 31 Shooting Star Drive\, Pagosa Springs\, Colorado\, 81147
END:VEVENT
BEGIN:VEVENT
DTSTART;TZID=America/Denver:20210628T100000
DTEND;TZID=America/Denver:20210628T120000
DTSTAMP:20260420T171051
CREATED:20210613T211955Z
LAST-MODIFIED:20210613T211955Z
UID:10000298-1624874400-1624881600@ctrmd.org
SUMMARY:Pagosa Area Trails Council
DESCRIPTION:
URL:https://ctrmd.org/ctrhoaevent/pagosa-area-trails-council/
LOCATION:Timber Ridge Clubhouse\, 31 Shooting Star Drive\, Pagosa Springs\, Colorado\, 81147
END:VEVENT
BEGIN:VEVENT
DTSTART;TZID=America/Denver:20210630T090000
DTEND;TZID=America/Denver:20210630T120000
DTSTAMP:20260420T171051
CREATED:20210617T222545Z
LAST-MODIFIED:20210617T222545Z
UID:10000299-1625043600-1625054400@ctrmd.org
SUMMARY:Private Event
DESCRIPTION:
URL:https://ctrmd.org/ctrhoaevent/private-event/
LOCATION:Timber Ridge Clubhouse\, 31 Shooting Star Drive\, Pagosa Springs\, Colorado\, 81147
END:VEVENT
END:VCALENDAR