BEGIN:VCALENDAR
VERSION:2.0
PRODID:-//Colorado Timber Ridge - ECPv6.15.20//NONSGML v1.0//EN
CALSCALE:GREGORIAN
METHOD:PUBLISH
X-ORIGINAL-URL:https://ctrmd.org
X-WR-CALDESC:Events for Colorado Timber Ridge
REFRESH-INTERVAL;VALUE=DURATION:PT1H
X-Robots-Tag:noindex
X-PUBLISHED-TTL:PT1H
BEGIN:VTIMEZONE
TZID:America/Denver
BEGIN:DAYLIGHT
TZOFFSETFROM:-0700
TZOFFSETTO:-0600
TZNAME:MDT
DTSTART:20200308T090000
END:DAYLIGHT
BEGIN:STANDARD
TZOFFSETFROM:-0600
TZOFFSETTO:-0700
TZNAME:MST
DTSTART:20201101T080000
END:STANDARD
BEGIN:DAYLIGHT
TZOFFSETFROM:-0700
TZOFFSETTO:-0600
TZNAME:MDT
DTSTART:20210314T090000
END:DAYLIGHT
BEGIN:STANDARD
TZOFFSETFROM:-0600
TZOFFSETTO:-0700
TZNAME:MST
DTSTART:20211107T080000
END:STANDARD
BEGIN:DAYLIGHT
TZOFFSETFROM:-0700
TZOFFSETTO:-0600
TZNAME:MDT
DTSTART:20220313T090000
END:DAYLIGHT
BEGIN:STANDARD
TZOFFSETFROM:-0600
TZOFFSETTO:-0700
TZNAME:MST
DTSTART:20221106T080000
END:STANDARD
END:VTIMEZONE
BEGIN:VEVENT
DTSTART;TZID=America/Denver:20210505T180000
DTEND;TZID=America/Denver:20210505T190000
DTSTAMP:20260420T173112
CREATED:20210429T002140Z
LAST-MODIFIED:20210429T002140Z
UID:10000292-1620237600-1620241200@ctrmd.org
SUMMARY:Living with Wildfire - FAC 101
DESCRIPTION:In recognition of Wildfire Preparedness Month\, Wildfire Adapted Partnership will be offering two free workshop opportunities in May. These workshops will help local residents learn more about fire history in southwest Colorado\, how the organization is working to build fire adapted communities\, and steps that local residents can take to lower their property’s risk of wildfire. \nTo register for either or both of the sessions\, leverage the following link: \nhttps://www.wildfireadapted.org/news-1/2021/4/1/home-ignition-zone-workshop-series
URL:https://ctrmd.org/ctrhoaevent/living-with-wildfire-fac-101/
LOCATION:Zoom
END:VEVENT
BEGIN:VEVENT
DTSTART;TZID=America/Denver:20210506T183000
DTEND;TZID=America/Denver:20210506T203000
DTSTAMP:20260420T173112
CREATED:20210506T132645Z
LAST-MODIFIED:20210506T132645Z
UID:10000294-1620325800-1620333000@ctrmd.org
SUMMARY:Private Party
DESCRIPTION:
URL:https://ctrmd.org/ctrhoaevent/private-party-4/
LOCATION:Timber Ridge Clubhouse\, 31 Shooting Star Drive\, Pagosa Springs\, Colorado\, 81147
END:VEVENT
BEGIN:VEVENT
DTSTART;TZID=America/Denver:20210507T120000
DTEND;TZID=America/Denver:20210507T140000
DTSTAMP:20260420T173112
CREATED:20210325T141208Z
LAST-MODIFIED:20210506T133110Z
UID:10000274-1620388800-1620396000@ctrmd.org
SUMMARY:Ladies Lunch at City Hall Cafe and Grille (Location change)
DESCRIPTION:Ladies of Timber Ridge\, head down to City Hall and we’ll see you there. Just show up!
URL:https://ctrmd.org/ctrhoaevent/ladies-lunch-at-mees-hmong-cuisine/
LOCATION:City Hall Cafe\, 2151 Eagle Dr\,\, Pagosa Springs\, 81147
END:VEVENT
BEGIN:VEVENT
DTSTART;TZID=America/Denver:20210508T100000
DTEND;TZID=America/Denver:20210508T120000
DTSTAMP:20260420T173112
CREATED:20210331T005143Z
LAST-MODIFIED:20210506T140801Z
UID:10000277-1620468000-1620475200@ctrmd.org
SUMMARY:Make Timber Ridge Beautiful
DESCRIPTION:10:00 AM – Meet at Clubhouse with coffee and enjoy breakfast from a local bakery. We’ll split into groups and tidy the neighborhood
URL:https://ctrmd.org/ctrhoaevent/make-timber-ridge-beautiful/
LOCATION:Timber Ridge Clubhouse\, 31 Shooting Star Drive\, Pagosa Springs\, Colorado\, 81147
END:VEVENT
BEGIN:VEVENT
DTSTART;TZID=America/Denver:20210514T180000
DTEND;TZID=America/Denver:20210514T200000
DTSTAMP:20260420T173112
CREATED:20210325T141258Z
LAST-MODIFIED:20210325T141313Z
UID:10000275-1621015200-1621022400@ctrmd.org
SUMMARY:Simply Social
DESCRIPTION:Head on down to the clubhouse to connect with neighbors and friends!
URL:https://ctrmd.org/ctrhoaevent/simply-social-2/
LOCATION:Timber Ridge Clubhouse\, 31 Shooting Star Drive\, Pagosa Springs\, Colorado\, 81147
END:VEVENT
BEGIN:VEVENT
DTSTART;TZID=America/Denver:20210522T083000
DTEND;TZID=America/Denver:20210522T103000
DTSTAMP:20260420T173112
CREATED:20210425T130700Z
LAST-MODIFIED:20210506T140341Z
UID:10000290-1621672200-1621679400@ctrmd.org
SUMMARY:Pancake breakfast and TR Trail Ribbon Cutting
DESCRIPTION:Eat some blueberry pancakes and take a guided hike on the trail. Be ready to hit the trail by 9:30. RSVP by May 19th to ti***********@***il.com.
URL:https://ctrmd.org/ctrhoaevent/pancake-breakfast-and-tr-trail-ribbon-cutting/
LOCATION:Timber Ridge Clubhouse\, 31 Shooting Star Drive\, Pagosa Springs\, Colorado\, 81147
END:VEVENT
BEGIN:VEVENT
DTSTART;TZID=America/Denver:20210524T120000
DTEND;TZID=America/Denver:20210524T130000
DTSTAMP:20260420T173112
CREATED:20210429T002250Z
LAST-MODIFIED:20210429T002250Z
UID:10000293-1621857600-1621861200@ctrmd.org
SUMMARY:The Home Ignition Zone
DESCRIPTION:In recognition of Wildfire Preparedness Month\, Wildfire Adapted Partnership will be offering two free workshop opportunities in May. These workshops will help local residents learn more about fire history in southwest Colorado\, how the organization is working to build fire adapted communities\, and steps that local residents can take to lower their property’s risk of wildfire. \nTo register for either or both of the sessions\, leverage the following link: \nhttps://www.wildfireadapted.org/news-1/2021/4/1/home-ignition-zone-workshop-series
URL:https://ctrmd.org/ctrhoaevent/the-home-ignition-zone/
LOCATION:Zoom
END:VEVENT
BEGIN:VEVENT
DTSTART;TZID=America/Denver:20210527T083000
DTEND;TZID=America/Denver:20210527T100000
DTSTAMP:20260420T173112
CREATED:20210524T035631Z
LAST-MODIFIED:20210524T035841Z
UID:10000297-1622104200-1622109600@ctrmd.org
SUMMARY:Weed Spray and Education at Clubhouse
DESCRIPTION:We will have an education/spray date on May 27th.    Meet at the clubhouse at 8:30 am. We will have a short educational talk and then spray the weeds around the clubhouse\, mailbox  and pump station. Bring a pump sprayer and wear long pants\, gloves\, and sunglasses for protection. \nContact Susan Milford at 281-682-5163 or su**********@***il.com for more information. \n  \nTimber Ridge Metro District provides lot owners with free chemicals for spraying. You receive Amine (2\, 4-D herbicide) and a blue dye. Please see attached file with Label and Instructions. You can get them from Bob Hines\, 406-581-3925\, 1211 Cool Pines\, mo************@***oo.com Please bring two small plastic bottles to put the chemicals in. They are concentrated and must be mixed in a pump sprayer.
URL:https://ctrmd.org/ctrhoaevent/weed-spray-and-education/
END:VEVENT
BEGIN:VEVENT
DTSTART;TZID=America/Denver:20210529T150000
DTEND;TZID=America/Denver:20210529T210000
DTSTAMP:20260420T173112
CREATED:20210407T133119Z
LAST-MODIFIED:20210407T133119Z
UID:10000281-1622300400-1622322000@ctrmd.org
SUMMARY:Private Party
DESCRIPTION:The Clubhouse is being rented for a private event.
URL:https://ctrmd.org/ctrhoaevent/private-party-2/
LOCATION:Timber Ridge Clubhouse\, 31 Shooting Star Drive\, Pagosa Springs\, Colorado\, 81147
END:VEVENT
BEGIN:VEVENT
DTSTART;TZID=America/Denver:20210530T163000
DTEND;TZID=America/Denver:20210530T170000
DTSTAMP:20260420T173112
CREATED:20210412T134118Z
LAST-MODIFIED:20210412T134118Z
UID:10000282-1622392200-1622394000@ctrmd.org
SUMMARY:Line Dancing Lessons
DESCRIPTION:Join us for line dancing lessons at the Clubhouse!
URL:https://ctrmd.org/ctrhoaevent/line-dancing-lessons/
LOCATION:Timber Ridge Clubhouse\, 31 Shooting Star Drive\, Pagosa Springs\, Colorado\, 81147
END:VEVENT
END:VCALENDAR