BEGIN:VCALENDAR
VERSION:2.0
PRODID:-//Colorado Timber Ridge - ECPv6.15.20//NONSGML v1.0//EN
CALSCALE:GREGORIAN
METHOD:PUBLISH
X-ORIGINAL-URL:https://ctrmd.org
X-WR-CALDESC:Events for Colorado Timber Ridge
REFRESH-INTERVAL;VALUE=DURATION:PT1H
X-Robots-Tag:noindex
X-PUBLISHED-TTL:PT1H
BEGIN:VTIMEZONE
TZID:America/Denver
BEGIN:DAYLIGHT
TZOFFSETFROM:-0700
TZOFFSETTO:-0600
TZNAME:MDT
DTSTART:20240310T090000
END:DAYLIGHT
BEGIN:STANDARD
TZOFFSETFROM:-0600
TZOFFSETTO:-0700
TZNAME:MST
DTSTART:20241103T080000
END:STANDARD
BEGIN:DAYLIGHT
TZOFFSETFROM:-0700
TZOFFSETTO:-0600
TZNAME:MDT
DTSTART:20250309T090000
END:DAYLIGHT
BEGIN:STANDARD
TZOFFSETFROM:-0600
TZOFFSETTO:-0700
TZNAME:MST
DTSTART:20251102T080000
END:STANDARD
BEGIN:DAYLIGHT
TZOFFSETFROM:-0700
TZOFFSETTO:-0600
TZNAME:MDT
DTSTART:20260308T090000
END:DAYLIGHT
BEGIN:STANDARD
TZOFFSETFROM:-0600
TZOFFSETTO:-0700
TZNAME:MST
DTSTART:20261101T080000
END:STANDARD
END:VTIMEZONE
BEGIN:VEVENT
DTSTART;TZID=America/Denver:20250208T100000
DTEND;TZID=America/Denver:20250208T160000
DTSTAMP:20260419T081428
CREATED:20250106T223657Z
LAST-MODIFIED:20250106T223657Z
UID:10000845-1739008800-1739030400@ctrmd.org
SUMMARY:Paula Miller
DESCRIPTION:
URL:https://ctrmd.org/ctrhoaevent/paula-miller/
LOCATION:Timber Ridge Clubhouse\, 31 Shooting Star Drive\, Pagosa Springs\, Colorado\, 81147
END:VEVENT
END:VCALENDAR