BEGIN:VCALENDAR
VERSION:2.0
PRODID:-//Colorado Timber Ridge - ECPv6.15.20//NONSGML v1.0//EN
CALSCALE:GREGORIAN
METHOD:PUBLISH
X-ORIGINAL-URL:https://ctrmd.org
X-WR-CALDESC:Events for Colorado Timber Ridge
REFRESH-INTERVAL;VALUE=DURATION:PT1H
X-Robots-Tag:noindex
X-PUBLISHED-TTL:PT1H
BEGIN:VTIMEZONE
TZID:America/Denver
BEGIN:DAYLIGHT
TZOFFSETFROM:-0700
TZOFFSETTO:-0600
TZNAME:MDT
DTSTART:20200308T090000
END:DAYLIGHT
BEGIN:STANDARD
TZOFFSETFROM:-0600
TZOFFSETTO:-0700
TZNAME:MST
DTSTART:20201101T080000
END:STANDARD
BEGIN:DAYLIGHT
TZOFFSETFROM:-0700
TZOFFSETTO:-0600
TZNAME:MDT
DTSTART:20210314T090000
END:DAYLIGHT
BEGIN:STANDARD
TZOFFSETFROM:-0600
TZOFFSETTO:-0700
TZNAME:MST
DTSTART:20211107T080000
END:STANDARD
BEGIN:DAYLIGHT
TZOFFSETFROM:-0700
TZOFFSETTO:-0600
TZNAME:MDT
DTSTART:20220313T090000
END:DAYLIGHT
BEGIN:STANDARD
TZOFFSETFROM:-0600
TZOFFSETTO:-0700
TZNAME:MST
DTSTART:20221106T080000
END:STANDARD
END:VTIMEZONE
BEGIN:VEVENT
DTSTART;TZID=America/Denver:20210807T093000
DTEND;TZID=America/Denver:20210807T113000
DTSTAMP:20260420T104006
CREATED:20210629T125518Z
LAST-MODIFIED:20210725T131028Z
UID:10000303-1628328600-1628335800@ctrmd.org
SUMMARY:Fire Mitigation Workshop
DESCRIPTION:Contact:  Thomas Jones sp******@**.com
URL:https://ctrmd.org/ctrhoaevent/community-wildfire-preparedness-workshop/
LOCATION:Timber Ridge Clubhouse\, 31 Shooting Star Drive\, Pagosa Springs\, Colorado\, 81147
END:VEVENT
BEGIN:VEVENT
DTSTART;TZID=America/Denver:20210807T173000
DTEND;TZID=America/Denver:20210807T210000
DTSTAMP:20260420T104006
CREATED:20210425T130145Z
LAST-MODIFIED:20210807T213206Z
UID:10000289-1628357400-1628370000@ctrmd.org
SUMMARY:Annual Meeting + Dinner + Summer Concert
DESCRIPTION:Board meeting starts at 5:30pm\, then dinner and then Summer Concert Series featuring\, Whisky Mic at the Clubhouse starting at 6:30PM
URL:https://ctrmd.org/ctrhoaevent/annual-meeting-dinner-summer-concert/
LOCATION:Timber Ridge Clubhouse\, 31 Shooting Star Drive\, Pagosa Springs\, Colorado\, 81147
END:VEVENT
END:VCALENDAR