BEGIN:VCALENDAR
VERSION:2.0
PRODID:-//Colorado Timber Ridge - ECPv6.15.20//NONSGML v1.0//EN
CALSCALE:GREGORIAN
METHOD:PUBLISH
X-WR-CALNAME:Colorado Timber Ridge
X-ORIGINAL-URL:https://ctrmd.org
X-WR-CALDESC:Events for Colorado Timber Ridge
REFRESH-INTERVAL;VALUE=DURATION:PT1H
X-Robots-Tag:noindex
X-PUBLISHED-TTL:PT1H
BEGIN:VTIMEZONE
TZID:America/Denver
BEGIN:DAYLIGHT
TZOFFSETFROM:-0700
TZOFFSETTO:-0600
TZNAME:MDT
DTSTART:20200308T090000
END:DAYLIGHT
BEGIN:STANDARD
TZOFFSETFROM:-0600
TZOFFSETTO:-0700
TZNAME:MST
DTSTART:20201101T080000
END:STANDARD
BEGIN:DAYLIGHT
TZOFFSETFROM:-0700
TZOFFSETTO:-0600
TZNAME:MDT
DTSTART:20210314T090000
END:DAYLIGHT
BEGIN:STANDARD
TZOFFSETFROM:-0600
TZOFFSETTO:-0700
TZNAME:MST
DTSTART:20211107T080000
END:STANDARD
BEGIN:DAYLIGHT
TZOFFSETFROM:-0700
TZOFFSETTO:-0600
TZNAME:MDT
DTSTART:20220313T090000
END:DAYLIGHT
BEGIN:STANDARD
TZOFFSETFROM:-0600
TZOFFSETTO:-0700
TZNAME:MST
DTSTART:20221106T080000
END:STANDARD
END:VTIMEZONE
BEGIN:VEVENT
DTSTART;TZID=America/Denver:20210806T090000
DTEND;TZID=America/Denver:20210806T150000
DTSTAMP:20260420T103352
CREATED:20210626T003617Z
LAST-MODIFIED:20210626T004252Z
UID:10000302-1628240400-1628262000@ctrmd.org
SUMMARY:3rd Annual Timber Ridge Golf Tournament
DESCRIPTION:3rd Annual Timber Ridge Mens/Ladies Golf Outing.\n\n\n\n\n\n\n\n\n\n\n\n\n\nWhen: Friday\, August 6\,  2021 \nTime: Tee Time 9:00am\nWhere: Pagosa Golf Course  \nPrice: $58 for Golf includes Golf\, Golf Cart and   Range Balls. Pay at Pro Shop. Unless you are an Annual Member. Plus\,  Closest To the Hole Prizes. \n\n\nGolf Skill Level: All Levels – Novice to ” I  think I am really good”  \n\n\nLunch:  at Timber Ridge Clubhouse – Burgers\, Hot Dogs – Beer & Water/Soft  Drinks( It is ok to skip golf and just come to Lunch/Social). Please RSVP Lunch only. You can also RSVP  Golf Only no Lunch.   Lunch at Timber Ridge Clubhouse is sponsored by the Timber Ridge Social Committee! Big Thanks!!! \n\n\nRSVP:    RSVP – So we know how many tee times to get and how many for lunch/social. \n              Bobby Milford (bm********@***il.com / 281-467-2379)\n\n\nThe Plan:  A four person  scramble. 18 holes. Must use each team member’s tee shot  every nine holes.  Bring  $2 per person to put in the pot for the winning team. We will divide players into 4 person teams.    After  golf we will head to Timber Ridge Clubhouse for lunch\,  count the scores and social time.\n\nWe will be grilling hamburgers and hot dogs outside on the grill.  \n\n\n\nRequirement:   Must have Fun!\n\n\n\n\n\n\n\n\n\n\n\n\n\n\n\n\n\n\n\n  \n  \n  \n                                \n 
URL:https://ctrmd.org/ctrhoaevent/3rd-annual-timber-ridge-golf-tournament/
LOCATION:Timber Ridge Clubhouse\, 31 Shooting Star Drive\, Pagosa Springs\, Colorado\, 81147
END:VEVENT
END:VCALENDAR