BEGIN:VCALENDAR
VERSION:2.0
PRODID:-//Colorado Timber Ridge - ECPv6.15.20//NONSGML v1.0//EN
CALSCALE:GREGORIAN
METHOD:PUBLISH
X-ORIGINAL-URL:https://ctrmd.org
X-WR-CALDESC:Events for Colorado Timber Ridge
REFRESH-INTERVAL;VALUE=DURATION:PT1H
X-Robots-Tag:noindex
X-PUBLISHED-TTL:PT1H
BEGIN:VTIMEZONE
TZID:America/Denver
BEGIN:DAYLIGHT
TZOFFSETFROM:-0700
TZOFFSETTO:-0600
TZNAME:MDT
DTSTART:20200308T090000
END:DAYLIGHT
BEGIN:STANDARD
TZOFFSETFROM:-0600
TZOFFSETTO:-0700
TZNAME:MST
DTSTART:20201101T080000
END:STANDARD
BEGIN:DAYLIGHT
TZOFFSETFROM:-0700
TZOFFSETTO:-0600
TZNAME:MDT
DTSTART:20210314T090000
END:DAYLIGHT
BEGIN:STANDARD
TZOFFSETFROM:-0600
TZOFFSETTO:-0700
TZNAME:MST
DTSTART:20211107T080000
END:STANDARD
BEGIN:DAYLIGHT
TZOFFSETFROM:-0700
TZOFFSETTO:-0600
TZNAME:MDT
DTSTART:20220313T090000
END:DAYLIGHT
BEGIN:STANDARD
TZOFFSETFROM:-0600
TZOFFSETTO:-0700
TZNAME:MST
DTSTART:20221106T080000
END:STANDARD
END:VTIMEZONE
BEGIN:VEVENT
DTSTART;TZID=America/Denver:20210805T090000
DTEND;TZID=America/Denver:20210805T213000
DTSTAMP:20260420T122757
CREATED:20210801T154419Z
LAST-MODIFIED:20210801T154419Z
UID:10000313-1628154000-1628199000@ctrmd.org
SUMMARY:CTRMD Special Board Meeting - Clubhouse/Zoom
DESCRIPTION:The CTRMD Board will meet Thursday\, August 5\, 2021 at 9:00am Mountain Time at Clubhouse or via Zoom\n\n \n\n Join Zoom Meeting:\n\n \n\nhttps://us02web.zoom.us/j/86147596361?pwd=VWJIYTZvOXRPeS9COGhmYlBvQkdiUT09\n\n \n\n \n\n \n\nMeeting ID:861 4759 6361\n\n \n\n Passcode: 619741 \n\n \n\n \n\nDial by your location +1 346 248 7799\n\n \n\n \nAugust 5\, 2021 CTRMD Special Board Meeting AgendaDownload
URL:https://ctrmd.org/ctrhoaevent/ctrmd-special-board-meeting-clubhouse-zoom/
LOCATION:Timber Ridge Clubhouse\, 31 Shooting Star Drive\, Pagosa Springs\, Colorado\, 81147
END:VEVENT
END:VCALENDAR